BEGIN:VCALENDAR
VERSION:2.0
PRODID:-//University Services//NONSGML v1.0//EN
CALSCALE:GREGORIAN
METHOD:PUBLISH
BEGIN:VEVENT
UID:4524-0
SUMMARY:University Services Holiday Hours
DTSTART:20251124T140000Z
DTEND:20260111T230000Z
DTSTAMP:20251119T163016Z
LAST-MODIFIED:20260106T151255Z
SEQUENCE:0
DESCRIPTION:\nDining Services\n\n\n\nGet the most accurate and up-to-date dining hours on the Dining Services website. Hours are automatically updated daily to show which locations are open in real time including academic break periods.\n\n\n\n\nDining Services Website\n\n\n\n\nUniversity Services Center\n\n\n\nThe University Service Center is closed on Saturdays and Sundays.\n\n\n\n\nMonday\, November 24 - Friday\, November 28\nDate(s)Hours of OperationMonday\, November 248:00 a.m. to 4:00 p.m.Tuesday\, November 258:00 a.m. to 4:00 p.m.Wednesday\, November 268:00 a.m. to 4:00 p.m.Thursday\, November 27Closed for University HolidayFriday\, November 28Closed for University Holiday\n\n\n\n\nWednesday\, December 12 - Friday\, December 19 (See Early Closures)\nDate(s)Hours of OperationFriday\, December 12*8:00 a.m. to 2:00 p.m. Wednesday\, December 178:00 a.m. to 4:00 p.m.Thursday\, December 188:00 a.m. to 4:00 p.m.Friday\, December 19 *8:00 a.m. to 12:00 p.m. \n\n\n\n\nMonday\, December 22 - Friday\, December 26\nDate(s)Hours of OperationMonday\, December 228:00 a.m. to 4:00 p.m.Tuesday\, December 23Closed for University HolidayWednesday\, December 24Closed for University HolidayThursday\, December 25Closed for University HolidayFriday\, December 26Closed for University Holiday\n\n\n\n\nMonday\, December 29 - Friday\, January 2\nDate(s)Hours of OperationMonday\, December 298:00 a.m. to 4:00 p.m.Tuesday\, December 30Closed for University HolidayWednesday\, December 31Closed for University HolidayThursday\, January 1Closed for University HolidayFriday\, January 2Closed for University Holiday\n\n\n\n\nMonday\, January 5 - Friday\, January 5\nDate(s)Hours of OperationMonday\, January 58:00 a.m. to 4:00 p.m.Tuesday\, January 68:00 a.m. to 4:00 p.m.Wednesday\, January 78:00 a.m. to 4:00 p.m.Thursday\, January 88:00 a.m. to 4:00 p.m.Friday\, January 98:00 a.m. to 4:00 p.m.\n\n\n\n\n\nMail & Receiving Services - Student Mail Centers\n\n\n\nSee regular hours of operation here for all mail and receiving centers. \n\n\n\n\nMonday\, November 24 - Sunday\, November 30\nDate(s)Hitzeman MailVillage MailLofts MailMonday\, November 249:00 a.m. to 6:00 p.m.9:00 a.m. to 6:00 p.m.12:00 p.m. to 5:00 p.m.Tuesday\, November 259:00 a.m. to 5:00 p.m.9:00 a.m. to 5:30 p.m.12:00 p.m. to 5:00 p.m.Wednesday\, November 269:00 a.m. to 5:00 p.m.9:00 a.m. to 5:30 p.m.12:00 p.m. to 5:00 p.m.Thursday\, November 27Closed for University HolidayFriday\, November 28Closed for University HolidaySaturday\, November 29Closed for University HolidaySunday\, November 30ClosedClosedClosed\n\n\n\n\nWednesday\, December 17 - Sunday\, December 28\nDate(s)Hitzeman Mail Village MailLofts MailWednesday\, December 179:00 a.m. to 5:00 p.m.9:00 a.m. to 5:30 p.m.12:00 p.m. to 5:00 p.m.Thursday\, December 189:00 a.m. to 5:00 p.m.9:00 a.m. to 5:30 p.m.12:00 p.m. to 5:00 p.m.Friday\, December 199:00 a.m. to 5:00 p.m.9:00 a.m. to 5:30 p.m.12:00 p.m. to 5:00 p.m.Saturday\, December 20Closed for Winter BreakClosed for Winter BreakClosed for Winter BreakSunday\, December 21Closed Closed Closed Monday\, December 229:00 a.m. to 6:00 p.m.9:00 a.m. to 6:00 p.m.12:00 p.m. to 5:00 p.m.Tuesday\, December 239:00 a.m. to 5:00 p.m.9:00 a.m. to 5:30 p.m.12:00 p.m. to 5:00 p.m.Wednesday\, December 24Closed for UniversityHolidayThursday\, December 25Closed for UniversityHolidayFriday\, December 26Closed for UniversityHolidaySaturday\, December 27Closed for UniversityHolidaySunday\, December 28Closed Closed Closed \n\n\n\n\nMonday\, December 29 - Sunday\, January 11\nDate(s)Hitzeman Mail Village MailLofts MailMonday\, December 299:00 a.m. to 6:00 p.m.9:00 a.m. to 6:00 p.m.12:00 p.m. to 5:00 p.m.Tuesday\, December 309:00 a.m. to 5:00 p.m.9:00 a.m. to 5:30 p.m.12:00 p.m. to 5:00 p.m.Wednesday\, December 31Closed for UniversityHolidayThursday\, January 1Closed for UniversityHolidayFriday\, January 29:00 a.m. to 5:00 p.m.9:00 a.m. to 5:30 p.m.12:00 p.m. to 5:00 p.m.Saturday\, January 3Closed for Winter BreakClosed for Winter BreakClosed for Winter BreakSunday\, January 4ClosedClosedClosedMonday\, January 59:00 a.m. to 6:00 p.m.9:00 a.m. to 6:00 p.m.12:00 p.m. to 5:00 p.m.Tuesday\, January 6Closed9:00 a.m. to 5:30 p.m.12:00 p.m. to 5:00 p.m.Wednesday\, January 79:00 a.m. to 5:00 p.m.9:00 a.m. to 5:30 p.m.12:00 p.m. to 5:00 p.m.Thursday\, January 89:00 a.m. to 5:00 p.m.9:00 a.m. to 5:30 p.m.12:00 p.m. to 5:00 p.m.Friday\, January 99:00 a.m. to 5:00 p.m.9:00 a.m. to 5:30 p.m.12:00 p.m. to 5:00 p.m.Saturday\, January 10Closed for Winter BreakClosed for Winter BreakClosed for Winter BreakSunday\, January 11ClosedClosedClosed\n\n\n\n\n\nBear Necessities\n\n\n\n\nWednesday\, December 17 - Sunday\, December 21\nDate(s)Hours of OperationWednesday\, December 1710:30 a.m. to 5:00 p.m.Thursday\, December 1810:30 a.m. to 5:00 p.m.Friday\, December 1910:30 a.m. to 5:00 p.m.Saturday\, December 2012:00 p.m. to 5:00 p.m. Sunday\, December 2112:00 p.m. to 5:00 p.m. \n\n\n\n\nMonday\, December 22 - Sunday\, December 28\nDate(s)Hours of OperationMonday\, December 2210:30 a.m. to 5:00 p.m.Tuesday\, December 2310:30 a.m. to 5:00 p.m.Wednesday\, December 24Closed for University HolidayThursday\, December 25Closed for University HolidayFriday\, December 2610:30 a.m. to 5:00 p.m.Saturday\, December 2712:00 p.m. to 5:00 p.m. Sunday\, December 2812:00 p.m. to 5:00 p.m. \n\n\n\n\nMonday\, December 29 - Sunday\, January 4\nDate(s)Hours of OperationMonday\, December 2910:30 a.m. to 5:00 p.m.Tuesday\, December 3010:30 a.m. to 5:00 p.m.Wednesday\, December 31Closed for University HolidayThursday\, January 1Closed for University HolidayFriday\, January 210:30 a.m. to 5:00 p.m.Saturday\, January 312:00 p.m. to 5:00 p.m. Sunday\, January 412:00 p.m. to 5:00 p.m. \n\n\n\n\nMonday\, January 5 - Saturday\, January 11\nDate(s)Hours of OperationMonday\, January 510:30 a.m. to 5:00 p.m.Tuesday\, January 610:30 a.m. to 5:00 p.m.Wednesday\, January 710:30 a.m. to 5:00 p.m.Thursday\, January 810:30 a.m. to 5:00 p.m.Friday\, January 910:30 a.m. to 5:00 p.m.Saturday\, January 1012:00 p.m. to 5:00 p.m. Sunday\, January 1112:00 p.m. to 5:00 p.m. \n\n\n\n\n\nWashU Danforth Campus Store\n\n\n\nThe Danforth Campus Store is closed on Sundays. \n\n\n\n\nMonday\, November 24 - Sunday\, November 30\nDate(s)Hours of OperationMonday\, November 249:00 a.m. to 4:00 p.m.Tuesday\, November 259:00 a.m. to 4:00 p.m.Wednesday\, November 269:00 a.m. to 2:00 p.m.Thursday\, November 27Closed for University HolidayFriday\, November 28Closed for University HolidaySaturday\, November 29Closed for University HolidaySunday\, November 30Closed for University Holiday\n\n\n\n\nWednesday\, December 17 - Sunday\, December 21\nDate(s)Hours of OperationWednesday\, December 179:00 a.m. to 4:00 p.m.Thursday\, December 189:00 a.m. to 4:00 p.m.Friday\, December 199:00 a.m. to 4:00 p.m.Saturday\, December 20Closed Sunday\, December 21Closed \n\n\n\n\nMonday\, December 22 - Sunday\, December 28\nDate(s)Hours of OperationMonday\, December 2210:00 a.m. - 2:00 p.m.Tuesday\, December 2310:00 a.m. - 2:00 p.m.Wednesday\, December 24Closed for University HolidayThursday\, December 25Closed for University HolidayFriday\, December 26Closed for University HolidaySaturday\, December 27Closed for University HolidaySunday\, December 28Closed for University Holiday\n\n\n\n\nMonday\, December 29 - Sunday\, January 4\nDate(s)Hours of OperationMonday\, December 2910:00 a.m. - 2:00 p.m.Tuesday\, December 3010:00 a.m. - 2:00 p.m.Wednesday\, December 31Closed for University HolidayThursday\, January 1Closed for University HolidayFriday\, January 210:00 a.m. - 2:00 p.m.Saturday\, January 3Closed Sunday\, January 4Closed \n\n\n\n\n\nWashU Medicine Campus Store\n\n\n\nThe WashU Medicine Campus Store is closed on Sundays. \n\n\n\n\nMonday\, November 24 - Sunday\, November 30\nDate(s)Hours of OperationMonday\, November 248:00 a.m. to 4:00 p.m.Tuesday\, November 258:00 a.m. to 4:00 p.m.Wednesday\, November 268:00 a.m. to 4:00 p.m.Thursday\, November 27Closed for University HolidayFriday\, November 28Closed for University HolidaySaturday\, November 29Closed for University HolidaySunday\, November 30Closed for University Holiday\n\n\n\n\nWednesday\, December 17 - Sunday\, December 21\nDate(s)Hours of OperationWednesday\, December 178:00 a.m. to 4:00 p.m.Thursday\, December 188:00 a.m. to 4:00 p.m.Friday\, December 198:00 a.m. to 4:00 p.m.Saturday\, December 20Closed Sunday\, December 21Closed \n\n\n\n\nMonday\, December 22 - Sunday\, December 28\nDate(s)Hours of OperationMonday\, December 229:00 a.m. to 2:00 p.m.Tuesday\, December 239:00 a.m. to 2:00 p.m.Wednesday\, December 24Closed for University HolidayThursday\, December 25Closed for University HolidayFriday\, December 269:00 a.m. to 2:00 p.m.Saturday\, December 27Closed for University HolidaySunday\, December 28Closed for University Holiday\n\n\n\n\nMonday\, December 29 - Sunday\, January 4\nDate(s)Hours of OperationMonday\, December 299:00 a.m. to 2:00 p.m.Tuesday\, December 309:00 a.m. to 2:00 p.m.Wednesday\, December 31Closed for University HolidayThursday\, January 1Closed for University HolidayFriday\, January 29:00 a.m. to 2:00 p.m.Saturday\, January 3Closed Sunday\, January 4Closed \n\n\n
END:VEVENT
END:VCALENDAR